BEGIN:VCALENDAR
VERSION:2.0
PRODID:-//hacksw/handcal//NONSGML v1.0//EN
CALSCALE:GREGORIAN
BEGIN:VEVENT
X-WR-TIMEZONE:Europe/Madrid
DTSTART:20201117T180000
DTEND:20201117T193000
URL;VALUE=URI:https://www.centrodeestudiosandaluces.es/cea-actividades/3403
LOCATION:Directo on-line
SUMMARY:Fundación Pública Andaluza Centro de Estudios Andaluces Actividad ACT272/20
DESCRIPTION:Ciclo Andalucía y la primera vuelta al mundo. Webinar ‘Relaciones de España y Portugal a inicios del siglo XVI’. Martes\, 17 de noviembre de 2020\, de 18 a 19:30h.
DTSTAMP:20260422T151756
UID:69e8ca848ec8f
END:VEVENT
END:VCALENDAR