BEGIN:VCALENDAR
VERSION:2.0
PRODID:-//hacksw/handcal//NONSGML v1.0//EN
CALSCALE:GREGORIAN
BEGIN:VEVENT
X-WR-TIMEZONE:Europe/Madrid
DTSTART:20200507T173000
DTEND:20200507T181500
URL;VALUE=URI:https://www.centrodeestudiosandaluces.es/cea-actividades/3270
LOCATION:
SUMMARY:Fundación Pública Andaluza Centro de Estudios Andaluces Actividad ACT140/20
DESCRIPTION:WEBINAR 'COVID-19. Retos para la conciliación' Jueves 7 de mayo de 2020. 17:30 horas.
DTSTAMP:20260420T131759
UID:69e60b674f5e1
END:VEVENT
END:VCALENDAR