BEGIN:VCALENDAR
VERSION:2.0
PRODID:-//hacksw/handcal//NONSGML v1.0//EN
CALSCALE:GREGORIAN
BEGIN:VEVENT
X-WR-TIMEZONE:Europe/Madrid
DTSTART:20180523T000000
DTEND:20180524T000000
URL;VALUE=URI:https://www.centrodeestudiosandaluces.es/cea-actividades/2703
LOCATION:Centro de Estudios Andaluces. C/ Bailén 50. Sevilla
SUMMARY:Fundación Pública Andaluza Centro de Estudios Andaluces Actividad ACT104/18
DESCRIPTION:Curso 'Análisis sociológico del discurso' 23 de mayo de 16:00-20:00h24 de mayo de 10:00-14:00 y de 16:00-20:00h
DTSTAMP:20260424T052129
UID:69eae1b9d514f
END:VEVENT
END:VCALENDAR