BEGIN:VCALENDAR
VERSION:2.0
PRODID:-//hacksw/handcal//NONSGML v1.0//EN
CALSCALE:GREGORIAN
BEGIN:VEVENT
X-WR-TIMEZONE:Europe/Madrid
DTSTART:20161007T000000
DTEND:20161007T000000
URL;VALUE=URI:https://www.centrodeestudiosandaluces.es/cea-actividades/2321
LOCATION:Palacio de los Marqueses de la Algaba. Plaza Calderón de la Barca\, s/n. SevillaSalón D. Rodrigo
SUMMARY:Fundación Pública Andaluza Centro de Estudios Andaluces Actividad ACT180/16
DESCRIPTION:Jornadas 'Un año de Transparencia. Evaluación de la Ley de Transparencia Pública de Andalucía' Día 7 de octubre. Sesión de mañana
DTSTAMP:20260421T122536
UID:69e750a080b01
END:VEVENT
END:VCALENDAR